Workbook

Sheet 单纯门诊
A1: 附件2：
A2: 淮南市医疗保障定点医疗机构（单纯门诊医疗机构）2026年第三季度考评结果汇总
A3: 医院编码 | B3: 医院名称 | C3: 医院级别 | D3: 区划 | E3: 1.门诊次均费用增长率 | F3: 2.药品量价比较指数 | G3: 3.费用实际报销比例 | H3: 4.费用实际报销比例同比增长率 | I3: 5.智能监管提醒依从率 | J3: 6.智能监管事前提醒未覆盖天数 | K3: 7.智能监管实时监控未覆盖天数 | L3: 8.追溯码上传质量 | M3: 合计·总分
A4: H34040200057 | B4: 淮南市大通区九龙岗镇卫生院 | C4: 无等级 | D4: =VLOOKUP(A4,[1]医院!A:D,4,FALSE) -> 大通区 | E4: 15 | F4: 16 | G4: 12 | H4: 12 | I4: 10 | J4: 10 | K4: 10 | L4: 15 | M4: 100
A5: H34040200082 | B5: 淮南市大通区九龙岗镇红旗社区卫生服务站 | C5: 无等级 | D5: =VLOOKUP(A5,[1]医院!A:D,4,FALSE) -> 大通区 | E5: 15 | F5: 16 | G5: 12 | H5: 12 | I5: 10 | J5: 10 | K5: 10 | L5: 15 | M5: 100
A6: H34040200160 | B6: 大通区洛河镇洛河社区卫生服务站 | C6: 无等级 | D6: =VLOOKUP(A6,[1]医院!A:D,4,FALSE) -> 大通区 | E6: 15 | F6: 16 | G6: 12 | H6: 12 | I6: 10 | J6: 10 | K6: 10 | L6: 15 | M6: 100
A7: H34040200231 | B7: 淮南市大通区孔店乡中心卫生院 | C7: 无等级 | D7: =VLOOKUP(A7,[1]医院!A:D,4,FALSE) -> 大通区 | E7: 15 | F7: 16 | G7: 12 | H7: 12 | I7: 10 | J7: 10 | K7: 10 | L7: 15 | M7: 100
A8: H34040201306 | B8: 淮南市大通区东方医院集团九龙门诊部 | C8: 无等级 | D8: =VLOOKUP(A8,[1]医院!A:D,4,FALSE) -> 大通区 | E8: 15 | F8: 16 | G8: 12 | H8: 12 | I8: 10 | J8: 10 | K8: 10 | L8: 15 | M8: 100
A9: H34040300051 | B9: 淮南博士医院 | C9: 一级医院 | D9: =VLOOKUP(A9,[1]医院!A:D,4,FALSE) -> 田家庵区 | E9: 15 | F9: 16 | G9: 12 | H9: 12 | I9: 10 | J9: 10 | K9: 10 | L9: 15 | M9: 100
A10: H34040300169 | B10: 朝阳街道社区卫生服务中心 | C10: 无等级 | D10: =VLOOKUP(A10,[1]医院!A:D,4,FALSE) -> 田家庵区 | E10: 15 | F10: 16 | G10: 12 | H10: 12 | I10: 10 | J10: 10 | K10: 10 | L10: 15 | M10: 100
A11: H34040300253 | B11: 安成镇上郭社区卫生服务站 | C11: 无等级 | D11: =VLOOKUP(A11,[1]医院!A:D,4,FALSE) -> 田家庵区 | E11: 15 | F11: 16 | G11: 12 | H11: 12 | I11: 10 | J11: 10 | K11: 10 | L11: 15 | M11: 100
A12: H34040300273 | B12: 淮南达康综合门诊部 | C12: 无等级 | D12: =VLOOKUP(A12,[1]医院!A:D,4,FALSE) -> 田家庵区 | E12: 15 | F12: 16 | G12: 12 | H12: 12 | I12: 10 | J12: 10 | K12: 10 | L12: 15 | M12: 100
A13: H34040300320 | B13: 泉山街道社区卫生服务中心 | C13: 无等级 | D13: =VLOOKUP(A13,[1]医院!A:D,4,FALSE) -> 田家庵区 | E13: 15 | F13: 16 | G13: 12 | H13: 12 | I13: 10 | J13: 10 | K13: 10 | L13: 15 | M13: 100
A14: H34040301167 | B14: 龙泉街道南岭社区卫生服务站 | C14: 无等级 | D14: =VLOOKUP(A14,[1]医院!A:D,4,FALSE) -> 田家庵区 | E14: 15 | F14: 16 | G14: 12 | H14: 12 | I14: 10 | J14: 10 | K14: 10 | L14: 15 | M14: 100
A15: H34040301311 | B15: 朝阳街道诚信社区卫生服务站 | C15: 无等级 | D15: =VLOOKUP(A15,[1]医院!A:D,4,FALSE) -> 田家庵区 | E15: 15 | F15: 16 | G15: 12 | H15: 12 | I15: 10 | J15: 10 | K15: 10 | L15: 15 | M15: 100
... A176: H34040300068 | B176: 淮南安康门诊部 | C176: 无等级 | D176: =VLOOKUP(A176,[1]医院!A:D,4,FALSE) -> 田家庵区 | E176: 0 | F176: 14 | G176: 0 | H176: 0 | I176: 10 | J176: 10 | K176: 10 | L176: 15 | M176: 59
